BEGIN:VCALENDAR
VERSION:2.0
PRODID:-//wp-events-plugin.com//6.6.3//EN
BEGIN:VEVENT
UID:306@punb.com.my
DTSTART:20250827T100000Z
DTEND:20250827T123000Z
DTSTAMP:20250822T125224Z
URL:https://www.punb.com.my/events/dalam-talian-taklimat-pembiayaan-pernia
 gaan-punb-278/
SUMMARY:[Dalam Talian] - Taklimat Pembiayaan Perniagaan PUNB
DESCRIPTION:Sesi Penerangan Taklimat: 10.00 am - 12.30 pm
ATTACH;FMTTYPE=image/jpeg:https://www.punb.com.my/wp-content/uploads/2025/
 08/Final-Ogos-Taklimat-Online.png
CATEGORIES:Business Financing Activities,Calendar of Activities
LOCATION:https://qrco.de/TaklimatOnline
END:VEVENT
END:VCALENDAR