BEGIN:VCALENDAR
VERSION:2.0
PRODID:-//wp-events-plugin.com//6.6.3//EN
BEGIN:VEVENT
UID:127@punb.com.my
DTSTART:20241120T100000Z
DTEND:20241120T123000Z
DTSTAMP:20241209T193813Z
URL:https://www.punb.com.my/events/dalam-talian-taklimat-pembiayaan-pernia
 gaan-punb-4/
SUMMARY:Dalam Talian - Taklimat Pembiayaan Perniagaan PUNB
DESCRIPTION:Sesi Penerangan Taklimat: 10.00 am - 12.30 pm\n\nKlik di sini u
 ntuk Pendaftaran / Pengesahan Kehadiran.
ATTACH;FMTTYPE=image/jpeg:https://www.punb.com.my/wp-content/uploads/2024/
 12/bersemuka-taklimat-pembiayaan-perniagaan-punb-9-img.jpg
CATEGORIES:Calendar of Activities,Pre-training
LOCATION:https://event.webinarjam.com/channel/Taklimat_PUNB
END:VEVENT
END:VCALENDAR