BEGIN:VCALENDAR
VERSION:2.0
PRODID:-//wp-events-plugin.com//6.6.3//EN
BEGIN:VEVENT
UID:340@punb.com.my
DTSTART:20251105T100000Z
DTEND:20251105T123000Z
DTSTAMP:20251104T022752Z
URL:https://www.punb.com.my/events/dalam-talian-taklimat-pembiayaan-pernia
 gaan-punb-511/
SUMMARY:[Dalam Talian] - Taklimat Pembiayaan Perniagaan PUNB
DESCRIPTION:Sesi Penerangan Taklimat: 10.00 am - 12.30 pm
ATTACH;FMTTYPE=image/jpeg:https://www.punb.com.my/wp-content/uploads/2025/
 11/Nov-Taklimat-Online.jpg
CATEGORIES:Business Financing Activities,Calendar of Activities
LOCATION:https://event.webinarjam.com/gq454/register/m29y9foy
END:VEVENT
END:VCALENDAR