BEGIN:VCALENDAR
VERSION:2.0
PRODID:-//wp-events-plugin.com//6.6.3//EN
BEGIN:VEVENT
UID:342@punb.com.my
DTSTART:20251105T094500Z
DTEND:20251105T114500Z
DTSTAMP:20251104T023427Z
URL:https://www.punb.com.my/events/ibu-pejabat-punb-sesi-bincang-niaga-ber
 sama-punb-511/
SUMMARY:[Pejabat Wilayah Tengah] - Sesi Bincang Niaga Bersama PUNB
DESCRIPTION:Sesi Konsultasi Perniagaan: 9.45am\n\n**TERBUKA HANYA KEPADA PE
 SERTA YANG MENDAFTAR DI PAUTAN INI. PIHAK “ADMIN” AKAN MENGESAHKAN PEN
 DAFTARAN MENERUSI APLIKASI WHATSAPP**
ATTACH;FMTTYPE=image/jpeg:https://www.punb.com.my/wp-content/uploads/2025/
 11/Nov-Bincang-Niaga-Wilayah-Tengah.jpg
CATEGORIES:Business Financing Activities,Calendar of Activities
LOCATION:Pejabat PUNB Wilayah Tengah\, F-G-35\, Vista Alam\, No. 3\, Presin
 t 4.5\, Jalan Ikhtisas 14/1\, Seksyen 14\, Shah Alam\, Selangor\, Malaysia
X-APPLE-STRUCTURED-LOCATION;VALUE=URI;X-ADDRESS=F-G-35\, Vista Alam\, No. 3
 \, Presint 4.5\, Jalan Ikhtisas 14/1\, Seksyen 14\, Shah Alam\, Selangor\,
  Malaysia;X-APPLE-RADIUS=100;X-TITLE=Pejabat PUNB Wilayah Tengah:geo:0,0
END:VEVENT
END:VCALENDAR