BEGIN:VCALENDAR
VERSION:2.0
PRODID:-//wp-events-plugin.com//6.6.3//EN
BEGIN:VEVENT
UID:356@punb.com.my
DTSTART:20251127T090000Z
DTEND:20251127T130000Z
DTSTAMP:20251104T032458Z
URL:https://www.punb.com.my/events/jerayawara-negeri-sabah-tawau-taklimat-
 pembiayaan-perniagaan-punb/
SUMMARY:[Jerayawara Negeri Sabah/Tawau] - Taklimat Pembiayaan Perniagaan PU
 NB
DESCRIPTION:
ATTACH;FMTTYPE=image/jpeg:https://www.punb.com.my/wp-content/uploads/2025/
 11/6073127720289241889.jpg
CATEGORIES:Calendar of Activities,Pre-training
LOCATION:Borneo Royale Hotel\, Eastern Plaza\, Jalan Kuhara\, Mile 1\, Tawa
 u\, Sabah\, Malaysia
X-APPLE-STRUCTURED-LOCATION;VALUE=URI;X-ADDRESS=Eastern Plaza\, Jalan Kuhar
 a\, Mile 1\, Tawau\, Sabah\, Malaysia;X-APPLE-RADIUS=100;X-TITLE=Borneo Ro
 yale Hotel:geo:0,0
END:VEVENT
END:VCALENDAR