BEGIN:VCALENDAR
VERSION:2.0
PRODID:-//wp-events-plugin.com//6.6.3//EN
BEGIN:VEVENT
UID:309@punb.com.my
DTSTART:20250826T090000Z
DTEND:20250826T130000Z
DTSTAMP:20250819T021053Z
URL:https://www.punb.com.my/events/jerayawara-negeri-terengganu-taklimat-p
 embiayaan-perniagaan-punb-268/
SUMMARY:[Jerayawara Negeri Terengganu] - Taklimat Pembiayaan Perniagaan PUN
 B
DESCRIPTION:
ATTACH;FMTTYPE=image/jpeg:https://www.punb.com.my/wp-content/uploads/2025/
 08/Final-Jerayawara-Terengganu.png
CATEGORIES:Calendar of Activities,Pre-training
LOCATION:DSH Batu Burok Beach Resort\, Kuala Terengganu\, 906\, Jalan Panta
 i Batu Buruk\, Kampung Pantai Batu Burok\, \, \, Kuala Terengganu\, Tereng
 ganu\, 20400\, Malaysia
X-APPLE-STRUCTURED-LOCATION;VALUE=URI;X-ADDRESS=906\, Jalan Pantai Batu Bur
 uk\, Kampung Pantai Batu Burok\, \, \, Kuala Terengganu\, Terengganu\, 204
 00\, Malaysia;X-APPLE-RADIUS=100;X-TITLE=DSH Batu Burok Beach Resort\, Kua
 la Terengganu:geo:0,0
END:VEVENT
END:VCALENDAR