BEGIN:VCALENDAR
VERSION:2.0
PRODID:-//wp-events-plugin.com//6.6.3//EN
BEGIN:VEVENT
UID:33@punb.com.my
DTSTART:20240424T090000Z
DTEND:20240425T170000Z
DTSTAMP:20241205T233251Z
URL:https://www.punb.com.my/events/kaunter-khidmat-nasihat-dan-padanan-per
 niagaan-sempena-sambutan-hari-harta-intelek-negara-hhin-2024/
SUMMARY:Kaunter Khidmat Nasihat dan Padanan Perniagaan Sempena Sambutan Har
 i Harta Intelek Negara (HHIN) 2024
DESCRIPTION:Klik di sini untuk Pendaftaran / Pengesahan Kehadiran.
CATEGORIES:Calendar of Activities
LOCATION:Menara myIPO PJ Sentral\, Selangor\, Dewan Latihan\, Akademi Harta
  Intelek (IPA)\, Aras 11\, Menara myIPO PJ Sentral\, Selangor\, Malaysia
X-APPLE-STRUCTURED-LOCATION;VALUE=URI;X-ADDRESS=Dewan Latihan\, Akademi Har
 ta Intelek (IPA)\, Aras 11\, Menara myIPO PJ Sentral\, Selangor\, Malaysia
 ;X-APPLE-RADIUS=100;X-TITLE=Menara myIPO PJ Sentral\, Selangor:geo:0,0
END:VEVENT
END:VCALENDAR