BEGIN:VCALENDAR
VERSION:2.0
PRODID:-//wp-events-plugin.com//6.6.3//EN
BEGIN:VEVENT
UID:324@punb.com.my
DTSTART:20250917T090000Z
DTEND:20250920T180000Z
DTSTAMP:20250904T050113Z
URL:https://www.punb.com.my/events/pameran-malaysia-international-halal-sh
 owcase-mihas-2025/
SUMMARY:[Pameran] - Malaysia International Halal Showcase (MIHAS) 2025
DESCRIPTION:
CATEGORIES:Calendar of Activities
LOCATION:Malaysia International Trade and Exhibition Centre (MITEC)\, KL Me
 tropolis\, 8\, Jalan Dutamas 2\, Segambut\, Kuala Lumpur 50480 \, Malaysia
 \, Malaysia
X-APPLE-STRUCTURED-LOCATION;VALUE=URI;X-ADDRESS=KL Metropolis\, 8\, Jalan D
 utamas 2\, Segambut\, Kuala Lumpur 50480 \, Malaysia\, Malaysia;X-APPLE-RA
 DIUS=100;X-TITLE=Malaysia International Trade and Exhibition Centre (MITEC
 ):geo:0,0
END:VEVENT
END:VCALENDAR