BEGIN:VCALENDAR
VERSION:2.0
PRODID:-//wp-events-plugin.com//6.6.3//EN
BEGIN:VEVENT
UID:360@punb.com.my
DTSTART:20251208T100000Z
DTEND:20251208T120000Z
DTSTAMP:20251203T082602Z
URL:https://www.punb.com.my/events/pejabat-wilayah-cawangan-taklimat-pembi
 ayaan-perniagaan-punb-812/
SUMMARY:[Pejabat Wilayah & Cawangan] - Taklimat Pembiayaan Perniagaan PUNB
DESCRIPTION:Sesi Pendaftaran: 9.30 am\n\nSesi Penerangan Taklimat: 10.00 am
ATTACH;FMTTYPE=image/jpeg:https://www.punb.com.my/wp-content/uploads/2025/
 12/Dec-Taklimat-Pembiayaan-Perniagaan.jpg
CATEGORIES:Business Financing Activities,Calendar of Activities
LOCATION:https://www.punb.com.my/contact-us/
END:VEVENT
END:VCALENDAR