BEGIN:VCALENDAR
VERSION:2.0
PRODID:-//wp-events-plugin.com//6.6.3//EN
BEGIN:VEVENT
UID:212@punb.com.my
DTSTART:20241202T093000Z
DTEND:20241202T120000Z
DTSTAMP:20241212T233225Z
URL:https://www.punb.com.my/events/pejabat-wilayah-cawangan-taklimat-pembi
 ayaan-perniagaan-punb/
SUMMARY:[Pejabat Wilayah & Cawangan] - Taklimat Pembiayaan Perniagaan PUNB
DESCRIPTION:Sesi Pendaftaran: 9.30am\n\nSesi Perangan Taklimat: 10.00 am\n\
 nKlik di sini untuk Pendaftaran / Pengesahan Kehadiran.
ATTACH;FMTTYPE=image/jpeg:https://www.punb.com.my/wp-content/uploads/2024/
 12/ibu-pejabat-taklimat-pembiayaan-perniagaan-punb-img.jpg
CATEGORIES:Business Financing Activities,Pre-training
LOCATION:https://www.punb.com.my/ms/mengenai-kami/hubungi-kami/rangkaian-pe
 jabat-wilayah-cawangan-punb
END:VEVENT
END:VCALENDAR