BEGIN:VCALENDAR
VERSION:2.0
PRODID:-//wp-events-plugin.com//6.6.3//EN
BEGIN:VEVENT
UID:155@punb.com.my
DTSTART:20240910T083000Z
DTEND:20240911T173000Z
DTSTAMP:20241210T220328Z
URL:https://www.punb.com.my/events/pembangunan-strategi-pemasaran-melalui-
 penjenamaan/
SUMMARY:Pembangunan & Strategi Pemasaran Melalui Penjenamaan
DESCRIPTION:
CATEGORIES:Entrepreneur Activities,Training
LOCATION:Swiss Garden Hotel\, Melaka\, Swiss Garden Hotel\, Melaka\, Malays
 ia
X-APPLE-STRUCTURED-LOCATION;VALUE=URI;X-ADDRESS=Swiss Garden Hotel\, Melaka
 \, Malaysia;X-APPLE-RADIUS=100;X-TITLE=Swiss Garden Hotel\, Melaka:geo:0,0
END:VEVENT
END:VCALENDAR