BEGIN:VCALENDAR
VERSION:2.0
PRODID:-//wp-events-plugin.com//6.6.3//EN
BEGIN:VEVENT
UID:192@punb.com.my
DTSTART:20240529T083000Z
DTEND:20240530T173000Z
DTSTAMP:20241211T005419Z
URL:https://www.punb.com.my/events/pengurusan-stok-inventori-2/
SUMMARY:Pengurusan Stok & Inventori
DESCRIPTION:
CATEGORIES:Entrepreneur Activities,Training
LOCATION:Avillion Port Dickson\, Negeri Sembilan\, Avillion Port Dickson\, 
 Negeri Sembilan\, Malaysia
X-APPLE-STRUCTURED-LOCATION;VALUE=URI;X-ADDRESS=Avillion Port Dickson\, Neg
 eri Sembilan\, Malaysia;X-APPLE-RADIUS=100;X-TITLE=Avillion Port Dickson\,
  Negeri Sembilan:geo:0,0
END:VEVENT
END:VCALENDAR