BEGIN:VCALENDAR
VERSION:2.0
PRODID:-//wp-events-plugin.com//6.6.3//EN
BEGIN:VEVENT
UID:187@punb.com.my
DTSTART:20240514T083000Z
DTEND:20240515T173000Z
DTSTAMP:20241211T003859Z
URL:https://www.punb.com.my/events/pengurusan-strategik-sumber-manusia/
SUMMARY:Pengurusan Strategik Sumber Manusia
DESCRIPTION:
CATEGORIES:Entrepreneur Activities,Training
LOCATION:Impiana Hotel\, Ipoh\, Perak\, Impiana Hotel\, Ipoh\, Perak\, Mala
 ysia
X-APPLE-STRUCTURED-LOCATION;VALUE=URI;X-ADDRESS=Impiana Hotel\, Ipoh\, Pera
 k\, Malaysia;X-APPLE-RADIUS=100;X-TITLE=Impiana Hotel\, Ipoh\, Perak:geo:0
 ,0
END:VEVENT
END:VCALENDAR