BEGIN:VCALENDAR
VERSION:2.0
PRODID:-//wp-events-plugin.com//6.6.3//EN
BEGIN:VEVENT
UID:176@punb.com.my
DTSTART:20240730T083000Z
DTEND:20240730T173000Z
DTSTAMP:20241210T233227Z
URL:https://www.punb.com.my/events/sesi-jaringan-usahawan-wilayah-selatan/
SUMMARY:Sesi Jaringan Usahawan Wilayah Selatan
DESCRIPTION:
CATEGORIES:Entrepreneur Activities,Training
LOCATION:TROVE Johor Bahru\, Johor\, Jalan Dato Abdullah Tahir\, Taman Abad
 \, 80300 Johor Bahru\,  Johor\, Malaysia
X-APPLE-STRUCTURED-LOCATION;VALUE=URI;X-ADDRESS=Jalan Dato Abdullah Tahir\,
  Taman Abad\, 80300 Johor Bahru\,  Johor\, Malaysia;X-APPLE-RADIUS=100;X-T
 ITLE=TROVE Johor Bahru\, Johor:geo:0,0
END:VEVENT
END:VCALENDAR