BEGIN:VCALENDAR
VERSION:2.0
PRODID:-//wp-events-plugin.com//6.6.3//EN
BEGIN:VEVENT
UID:286@punb.com.my
DTSTART:20250617T100000Z
DTEND:20250617T170000Z
DTSTAMP:20250610T060036Z
URL:https://www.punb.com.my/events/sesi-konsultasi-perniagaan-taklimat-pun
 b-online/
SUMMARY:Sesi Konsultasi Perniagaan & Taklimat PUNB Online
DESCRIPTION:**TERBUKA HANYA KEPADA PESERTA YANG MENDAFTAR DI PAUTAN INI. PI
 HAK “ADMIN” AKAN MENGESAHKAN PENDAFTARAN MENERUSI APLIKASI WHATSAPP**
ATTACH;FMTTYPE=image/jpeg:https://www.punb.com.my/wp-content/uploads/2025/
 06/6213274938400424947.jpg
CATEGORIES:Business Financing Activities,Calendar of Activities
LOCATION:Pejabat PUNB Wilayah Selatan\, No. 18\, Jalan Setia Tropika 1/27\,
  Taman Setia Tropika\, Kempas\, Johor Bahru\, Johor\, 81200\, Malaysia
X-APPLE-STRUCTURED-LOCATION;VALUE=URI;X-ADDRESS=No. 18\, Jalan Setia Tropik
 a 1/27\, Taman Setia Tropika\, Kempas\, Johor Bahru\, Johor\, 81200\, Mala
 ysia;X-APPLE-RADIUS=100;X-TITLE=Pejabat PUNB Wilayah Selatan:geo:0,0
END:VEVENT
END:VCALENDAR