BEGIN:VCALENDAR
VERSION:2.0
PRODID:-//wp-events-plugin.com//6.6.3//EN
BEGIN:VEVENT
UID:175@punb.com.my
DTSTART:20240730T083000Z
DTEND:20240731T173000Z
DTSTAMP:20241210T232917Z
URL:https://www.punb.com.my/events/strategic-thinking-problem-solving/
SUMMARY:Strategic Thinking & Problem Solving
DESCRIPTION:
CATEGORIES:Entrepreneur Activities,Training
LOCATION:Hotel Mercure KL Shaw Parade\, Hotel Mercure KL Shaw Parade\, Kual
 a Lumpur\, Malaysia
X-APPLE-STRUCTURED-LOCATION;VALUE=URI;X-ADDRESS=Hotel Mercure KL Shaw Parad
 e\, Kuala Lumpur\, Malaysia;X-APPLE-RADIUS=100;X-TITLE=Hotel Mercure KL Sh
 aw Parade:geo:0,0
END:VEVENT
END:VCALENDAR