BEGIN:VCALENDAR
VERSION:2.0
PRODID:-//wp-events-plugin.com//6.6.3//EN
BEGIN:VEVENT
UID:289@punb.com.my
DTSTART:20250625T100000Z
DTEND:20250625T180000Z
DTSTAMP:20250610T061724Z
URL:https://www.punb.com.my/events/taklimat-pembiayaan-perniagaan-punb-jer
 ayawara-kedah/
SUMMARY:Taklimat Pembiayaan Perniagaan PUNB (Jerayawara @ Kedah)
DESCRIPTION:
CATEGORIES:Calendar of Activities,Pre-training
LOCATION:Dewan Ukir Mall\, Ukir Mall\, Bandar Alor Setar\, Alor Setar\, Ked
 ah\, 05000\, Malaysia
X-APPLE-STRUCTURED-LOCATION;VALUE=URI;X-ADDRESS=Ukir Mall\, Bandar Alor Set
 ar\, Alor Setar\, Kedah\, 05000\, Malaysia;X-APPLE-RADIUS=100;X-TITLE=Dewa
 n Ukir Mall:geo:0,0
END:VEVENT
END:VCALENDAR