BEGIN:VCALENDAR
VERSION:2.0
PRODID:-//wp-events-plugin.com//6.6.3//EN
BEGIN:VEVENT
UID:186@punb.com.my
DTSTART:20240508T083000Z
DTEND:20240510T173000Z
DTSTAMP:20241211T003120Z
URL:https://www.punb.com.my/events/vehicle-electric-system/
SUMMARY:Vehicle Electric System
DESCRIPTION:
CATEGORIES:Entrepreneur Activities,Training
LOCATION:Akademi Bateriku\, Shah Alam\, Selangor\, Akademi Bateriku\, Shah 
 Alam\, Selangor\, Malaysia
X-APPLE-STRUCTURED-LOCATION;VALUE=URI;X-ADDRESS=Akademi Bateriku\, Shah Ala
 m\, Selangor\, Malaysia;X-APPLE-RADIUS=100;X-TITLE=Akademi Bateriku\, Shah
  Alam\, Selangor:geo:0,0
END:VEVENT
END:VCALENDAR