BEGIN:VCALENDAR
VERSION:2.0
PRODID:-//wp-events-plugin.com//6.6.3//EN
BEGIN:VEVENT
UID:199@punb.com.my
DTSTART:20240220T083000Z
DTEND:20240222T173000Z
DTSTAMP:20250630T085330Z
URL:https://www.punb.com.my/events/vehicle-electronic-system-batch-2/
SUMMARY:Vehicle Electronic System - Batch 2
DESCRIPTION:
CATEGORIES:Entrepreneur Activities,Training
LOCATION:Akademi Bateriku\, Shah Alam\, Selangor\, Akademi Bateriku\, Shah 
 Alam\, Selangor\, Malaysia
X-APPLE-STRUCTURED-LOCATION;VALUE=URI;X-ADDRESS=Akademi Bateriku\, Shah Ala
 m\, Selangor\, Malaysia;X-APPLE-RADIUS=100;X-TITLE=Akademi Bateriku\, Shah
  Alam\, Selangor:geo:0,0
END:VEVENT
END:VCALENDAR