BEGIN:VCALENDAR
VERSION:2.0
PRODID:-//wp-events-plugin.com//6.6.3//EN
BEGIN:VEVENT
UID:111@punb.com.my
DTSTART:20241023T080000Z
DTEND:20241023T170000Z
DTSTAMP:20241209T172627Z
URL:https://www.punb.com.my/ms/events/aktiviti-program-uni-challenge-2024-
 pembentangan-akhir/
SUMMARY:Aktiviti - Program Uni-Challenge 2024 - Pembentangan Akhir
DESCRIPTION:
CATEGORIES:Calendar of Activities
LOCATION:Universiti Malaysia Sabah (UMS)\, Jalan UMS\, 88400 Kota Kinabalu\
 , Sabah\, Malaysia
X-APPLE-STRUCTURED-LOCATION;VALUE=URI;X-ADDRESS=Jalan UMS\, 88400 Kota Kina
 balu\, Sabah\, Malaysia;X-APPLE-RADIUS=100;X-TITLE=Universiti Malaysia Sab
 ah (UMS):geo:0,0
END:VEVENT
END:VCALENDAR