BEGIN:VCALENDAR
VERSION:2.0
PRODID:-//wp-events-plugin.com//6.6.3//EN
BEGIN:VEVENT
UID:299@punb.com.my
DTSTART:20250717T103000Z
DTEND:20250717T163000Z
DTSTAMP:20250710T030201Z
URL:https://www.punb.com.my/ms/events/bengkel-bimbingan-penggunaan-punb-on
 line/
SUMMARY:Bengkel Bimbingan Penggunaan PUNB Online
DESCRIPTION:Sesi Bengkel: 10.30 am - 12.30 pm\n\nSesi Perbincangan: 2.30 pm
  - 4.30 pm\n\nKlik di sini untuk Pendaftaran / Pengesahan Kehadiran.
ATTACH;FMTTYPE=image/jpeg:https://www.punb.com.my/wp-content/uploads/2025/
 06/Final-Bengkel-Bimbingan-Penggunaan-PUNB-Online.jpg
CATEGORIES:Business Financing Activities,Calendar of Activities
LOCATION:https://www.surveymonkey.com/r/BPdanEPORTAL2025
END:VEVENT
END:VCALENDAR