BEGIN:VCALENDAR
VERSION:2.0
PRODID:-//wp-events-plugin.com//6.6.3//EN
BEGIN:VEVENT
UID:371@punb.com.my
DTSTART:20251218T103000Z
DTEND:20251218T163000Z
DTSTAMP:20251209T044032Z
URL:https://www.punb.com.my/ms/events/dalam-talian-sesi-bimbingan-permohon
 an-pembiayaan-perancangan-perniagaan-punb-1812/
SUMMARY:[Dalam Talian] - Sesi Bimbingan Permohonan Pembiayaan & Perancangan
  Perniagaan PUNB
DESCRIPTION:Waktu Kelas: 10.30 pagi - 12.30 tengah hari\n\nDiskusi Dalam Ta
 lian: 2.30 petang - 4.30 petang
ATTACH;FMTTYPE=image/jpeg:https://www.punb.com.my/wp-content/uploads/2025/
 12/Dec-Sesi-Bimbingan-Permohonan-Pembiayaan-Rancangan-Perniagaan.jpg
CATEGORIES:Business Financing Activities,Calendar of Activities
LOCATION:https://appt.link/bengkel-bimbingan-penggunaan-punb-online/permoho
 nanPUNB
END:VEVENT
END:VCALENDAR