BEGIN:VCALENDAR
VERSION:2.0
PRODID:-//wp-events-plugin.com//6.6.3//EN
BEGIN:VEVENT
UID:410@punb.com.my
DTSTART:20260423T103000Z
DTEND:20260423T130000Z
DTSTAMP:20260407T071659Z
URL:https://www.punb.com.my/ms/events/dalam-talian-sesi-bimbingan-permohon
 an-pembiayaan-rancangan-perniagaan-punb-234/
SUMMARY:[Dalam Talian] - Sesi Bimbingan Permohonan Pembiayaan & Rancangan P
 erniagaan PUNB
DESCRIPTION:Waktu Kelas: 10.30 pagi - 1.00 petang
ATTACH;FMTTYPE=image/jpeg:https://www.punb.com.my/wp-content/uploads/2026/
 04/April-Sesi-Bimbingan-Permohonan-Pembiayaan-Rancangan-Perniagaan.png
CATEGORIES:Business Financing Activities,Calendar of Activities
LOCATION:https://punb.odoo.com/event/sesi-bimbingan-pembiayaan-perancangan-
 perniagaan-punb-secara-atas-talian-23-april-2026-13/register
END:VEVENT
END:VCALENDAR