BEGIN:VCALENDAR
VERSION:2.0
PRODID:-//wp-events-plugin.com//6.6.3//EN
BEGIN:VEVENT
UID:152@punb.com.my
DTSTART:20241017T083000Z
DTEND:20241017T173000Z
DTSTAMP:20241210T215247Z
URL:https://www.punb.com.my/ms/events/diagnostik-pembaikan-gearbox-auto-cv
 t-2/
SUMMARY:Diagnostik & Pembaikan Gearbox Auto & CVT
DESCRIPTION:
CATEGORIES:Entrepreneur Activities,Training
LOCATION:JV Auto Lube\, Shah Alam\, Selangor\, JV Auto Lube\, Shah Alam\, S
 elangor\, Malaysia
X-APPLE-STRUCTURED-LOCATION;VALUE=URI;X-ADDRESS=JV Auto Lube\, Shah Alam\, 
 Selangor\, Malaysia;X-APPLE-RADIUS=100;X-TITLE=JV Auto Lube\, Shah Alam\, 
 Selangor:geo:0,0
END:VEVENT
END:VCALENDAR