BEGIN:VCALENDAR
VERSION:2.0
PRODID:-//wp-events-plugin.com//6.6.3//EN
BEGIN:VEVENT
UID:353@punb.com.my
DTSTART:20251119T090000Z
DTEND:20251119T130000Z
DTSTAMP:20251104T030658Z
URL:https://www.punb.com.my/ms/events/jerayawara-negeri-melaka-taklimat-pe
 mbiayaan-perniagaan-punb/
SUMMARY:[Jerayawara Negeri Melaka] - Taklimat Pembiayaan Perniagaan PUNB
DESCRIPTION:
ATTACH;FMTTYPE=image/jpeg:https://www.punb.com.my/wp-content/uploads/2025/
 11/Jerayawara-Melaka.jpg
CATEGORIES:Calendar of Activities,Pre-training
LOCATION:Melaka Intellectual Hall\, 15-1\, Jalan KLJ 1A\, Taman Kota Laksam
 ana\, Melaka\, Malaysia
X-APPLE-STRUCTURED-LOCATION;VALUE=URI;X-ADDRESS=15-1\, Jalan KLJ 1A\, Taman
  Kota Laksamana\, Melaka\, Malaysia;X-APPLE-RADIUS=100;X-TITLE=Melaka Inte
 llectual Hall:geo:0,0
END:VEVENT
END:VCALENDAR