BEGIN:VCALENDAR
VERSION:2.0
PRODID:-//wp-events-plugin.com//6.6.3//EN
BEGIN:VEVENT
UID:367@punb.com.my
DTSTART:20251218T090000Z
DTEND:20251218T130000Z
DTSTAMP:20251203T040521Z
URL:https://www.punb.com.my/ms/events/jerayawara-negeri-sarawak-miri-takli
 mat-pembiayaan-perniagaan-punb/
SUMMARY:[Jerayawara Negeri Sarawak/Miri] - Taklimat Pembiayaan Perniagaan P
 UNB
DESCRIPTION:
ATTACH;FMTTYPE=image/jpeg:https://www.punb.com.my/wp-content/uploads/2025/
 12/Dec-Jerayawara-Sarawak-Miri.jpg
CATEGORIES:Calendar of Activities,Pre-training
LOCATION:Dynasty Hotel Miri\, Lot 683 Block 9\, Jalan Pujut-Lutong C.D.T. 2
 0\, Miri\, Sarawak\, Malaysia
X-APPLE-STRUCTURED-LOCATION;VALUE=URI;X-ADDRESS=Lot 683 Block 9\, Jalan Puj
 ut-Lutong C.D.T. 20\, Miri\, Sarawak\, Malaysia;X-APPLE-RADIUS=100;X-TITLE
 =Dynasty Hotel Miri:geo:0,0
END:VEVENT
END:VCALENDAR