BEGIN:VCALENDAR
VERSION:2.0
PRODID:-//wp-events-plugin.com//6.6.3//EN
BEGIN:VEVENT
UID:184@punb.com.my
DTSTART:20240502T093000Z
DTEND:20240502T143000Z
DTSTAMP:20241211T002519Z
URL:https://www.punb.com.my/ms/events/mindspark-google-cloudspace-edition/
SUMMARY:MINDSPARK: Google-CloudSpace Edition
DESCRIPTION:
ATTACH;FMTTYPE=image/jpeg:https://www.punb.com.my/wp-content/uploads/2024/
 12/mindspark-google-cloudspace-edition.jpg
CATEGORIES:Entrepreneur Activities,Training
LOCATION:Google Malaysia\, Tingkat 20\, Merdeka Room\, Menara Axiata\, KL S
 entral\, Kuala Lumpur\, Malaysia
X-APPLE-STRUCTURED-LOCATION;VALUE=URI;X-ADDRESS=Tingkat 20\, Merdeka Room\,
  Menara Axiata\, KL Sentral\, Kuala Lumpur\, Malaysia;X-APPLE-RADIUS=100;X
 -TITLE=Google Malaysia:geo:0,0
END:VEVENT
END:VCALENDAR