BEGIN:VCALENDAR
VERSION:2.0
PRODID:-//wp-events-plugin.com//6.6.3//EN
BEGIN:VEVENT
UID:339@punb.com.my
DTSTART:20251028T090000Z
DTEND:20251030T180000Z
DTSTAMP:20251003T013441Z
URL:https://www.punb.com.my/ms/events/pameran-international-construction-w
 eek-buildxpo-2025/
SUMMARY:[Pameran] - International Construction Week (BuildXpo 2025)
DESCRIPTION:Lokasi: Lot 3P73\, Level 1\, MITEC KL
CATEGORIES:Calendar of Activities
LOCATION:Malaysia International Trade and Exhibition Centre (MITEC)\, KL Me
 tropolis\, 8\, Jalan Dutamas 2\, Segambut\, Kuala Lumpur 50480 \, Malaysia
 \, Malaysia
X-APPLE-STRUCTURED-LOCATION;VALUE=URI;X-ADDRESS=KL Metropolis\, 8\, Jalan D
 utamas 2\, Segambut\, Kuala Lumpur 50480 \, Malaysia\, Malaysia;X-APPLE-RA
 DIUS=100;X-TITLE=Malaysia International Trade and Exhibition Centre (MITEC
 ):geo:0,0
END:VEVENT
END:VCALENDAR