BEGIN:VCALENDAR
VERSION:2.0
PRODID:-//wp-events-plugin.com//6.6.3//EN
BEGIN:VEVENT
UID:344@punb.com.my
DTSTART:20251031T100000Z
DTEND:20251102T220000Z
DTSTAMP:20251104T023907Z
URL:https://www.punb.com.my/ms/events/pameran-mara-automotive-ecosystem-ma
 tec-2025/
SUMMARY:[Pameran] - MARA Automotive Ecosystem (MATEC) 2025
DESCRIPTION:Lokasi: Stadium Nasional Bukit Jalil
CATEGORIES:Calendar of Activities
LOCATION:Stadium Nasional Bukit Jalil\, Jalan Barat\, Bukit Jalil\, Kuala L
 umpur\, Wilayah Persekutuan Kuala Lumpur\, 57000\, Malaysia
X-APPLE-STRUCTURED-LOCATION;VALUE=URI;X-ADDRESS=Jalan Barat\, Bukit Jalil\,
  Kuala Lumpur\, Wilayah Persekutuan Kuala Lumpur\, 57000\, Malaysia;X-APPL
 E-RADIUS=100;X-TITLE=Stadium Nasional Bukit Jalil:geo:0,0
END:VEVENT
END:VCALENDAR