BEGIN:VCALENDAR
VERSION:2.0
PRODID:-//wp-events-plugin.com//6.6.3//EN
BEGIN:VEVENT
UID:214@punb.com.my
DTSTART:20241205T080000Z
DTEND:20241208T173000Z
DTSTAMP:20241212T230411Z
URL:https://www.punb.com.my/ms/events/pameran-penang-halal-international-e
 xpo-2024-2/
SUMMARY:Pameran - Penang Halal International Expo 2024
DESCRIPTION:Klik di sini untuk Pendaftaran / Pengesahan Kehadiran.
CATEGORIES:Business Financing Activities
LOCATION:Tapak Parkir Gravitas\, Jalan Baru\, Perai\, Pulau Pinang\, Tapak 
 Parkir Gravitas\, Jalan Baru\, Perai\, Pulau Pinang\, Malaysia
X-APPLE-STRUCTURED-LOCATION;VALUE=URI;X-ADDRESS=Tapak Parkir Gravitas\, Jal
 an Baru\, Perai\, Pulau Pinang\, Malaysia;X-APPLE-RADIUS=100;X-TITLE=Tapak
  Parkir Gravitas\, Jalan Baru\, Perai\, Pulau Pinang:geo:0,0
END:VEVENT
END:VCALENDAR