BEGIN:VCALENDAR
VERSION:2.0
PRODID:-//wp-events-plugin.com//6.6.3//EN
BEGIN:VEVENT
UID:332@punb.com.my
DTSTART:20251001T080000Z
DTEND:20251002T173000Z
DTSTAMP:20251003T003125Z
URL:https://www.punb.com.my/ms/events/pameran-seminar-tahunan-penjaja-2025
 /
SUMMARY:[Pameran] - Seminar Tahunan Penjaja 2025
DESCRIPTION:
CATEGORIES:Calendar of Activities
LOCATION:Lobi Menara BDKL 1\, Jln Raja Laut\, Kuala Lumpur City Centre\, Ku
 ala Lumpur\, Malaysia
X-APPLE-STRUCTURED-LOCATION;VALUE=URI;X-ADDRESS=Jln Raja Laut\, Kuala Lumpu
 r City Centre\, Kuala Lumpur\, Malaysia;X-APPLE-RADIUS=100;X-TITLE=Lobi Me
 nara BDKL 1:geo:0,0
END:VEVENT
END:VCALENDAR