BEGIN:VCALENDAR
VERSION:2.0
PRODID:-//wp-events-plugin.com//6.6.3//EN
BEGIN:VEVENT
UID:293@punb.com.my
DTSTART:20250721T100000Z
DTEND:20250721T120000Z
DTSTAMP:20250703T052859Z
URL:https://www.punb.com.my/ms/events/pejabat-wilayah-cawangan-taklimat-pe
 mbiayaan-perniagaan-punb-217/
SUMMARY:[Pejabat Wilayah & Cawangan] - Taklimat Pembiayaan Perniagaan PUNB
DESCRIPTION:Sesi Pendaftaran: 9.30 am\n\nSesi Penerangan Taklimat: 10.00 am
ATTACH;FMTTYPE=image/jpeg:https://www.punb.com.my/wp-content/uploads/2025/
 07/Final-Taklimat-Pembiayaan-Perniagaan.jpg
CATEGORIES:Business Financing Activities,Calendar of Activities
LOCATION:https://www.punb.com.my/contact-us/
END:VEVENT
END:VCALENDAR