BEGIN:VCALENDAR
VERSION:2.0
PRODID:-//wp-events-plugin.com//6.6.3//EN
BEGIN:VEVENT
UID:328@punb.com.my
DTSTART:20251006T100000Z
DTEND:20251006T120000Z
DTSTAMP:20251003T002452Z
URL:https://www.punb.com.my/ms/events/pejabat-wilayah-cawangan-taklimat-pe
 mbiayaan-perniagaan-punb-610/
SUMMARY:[Pejabat Wilayah & Cawangan] - Taklimat Pembiayaan Perniagaan PUNB
DESCRIPTION:Sesi Pendaftaran: 9.30 am\n\nSesi Penerangan Taklimat: 10.00 am
ATTACH;FMTTYPE=image/jpeg:https://www.punb.com.my/wp-content/uploads/2025/
 10/6266955174832621952.jpg
CATEGORIES:Business Financing Activities,Calendar of Activities
LOCATION:https://www.punb.com.my/contact-us/
END:VEVENT
END:VCALENDAR