BEGIN:VCALENDAR
VERSION:2.0
PRODID:-//wp-events-plugin.com//6.6.3//EN
BEGIN:VEVENT
UID:165@punb.com.my
DTSTART:20240827T083000Z
DTEND:20240828T173000Z
DTSTAMP:20241210T223347Z
URL:https://www.punb.com.my/ms/events/pengurusan-kos/
SUMMARY:Pengurusan Kos
DESCRIPTION:
CATEGORIES:Entrepreneur Activities,Training
LOCATION:Renai Hotel\, Kelantan\, Renai Hotel\, Kelantan\, Malaysia
X-APPLE-STRUCTURED-LOCATION;VALUE=URI;X-ADDRESS=Renai Hotel\, Kelantan\, Ma
 laysia;X-APPLE-RADIUS=100;X-TITLE=Renai Hotel\, Kelantan:geo:0,0
END:VEVENT
END:VCALENDAR