BEGIN:VCALENDAR
VERSION:2.0
PRODID:-//wp-events-plugin.com//6.6.3//EN
BEGIN:VEVENT
UID:205@punb.com.my
DTSTART:20240129T083000Z
DTEND:20240131T173000Z
DTSTAMP:20250630T085330Z
URL:https://www.punb.com.my/ms/events/penyelaras-keselamatan-dan-kesihatan
 -pekerjaan-osh-c/
SUMMARY:Penyelaras Keselamatan dan Kesihatan Pekerjaan (OSH-C)
DESCRIPTION:File\n\n Brochure - Safety Coordinator KL Johor Terengganu
CATEGORIES:Entrepreneur Activities,Training
LOCATION:Tamu Hotel & Suites\, Kuala Lumpur\, 120 Jalan Raja Abdullah 50300
 \, Kuala Lumpur\, Malaysia
X-APPLE-STRUCTURED-LOCATION;VALUE=URI;X-ADDRESS=120 Jalan Raja Abdullah 503
 00\, Kuala Lumpur\, Malaysia;X-APPLE-RADIUS=100;X-TITLE=Tamu Hotel & Suite
 s\, Kuala Lumpur:geo:0,0
END:VEVENT
END:VCALENDAR