BEGIN:VCALENDAR
VERSION:2.0
PRODID:-//wp-events-plugin.com//6.6.3//EN
BEGIN:VEVENT
UID:43@punb.com.my
DTSTART:20240606T090000Z
DTEND:20240608T170000Z
DTSTAMP:20241208T162709Z
URL:https://www.punb.com.my/ms/events/program-jelajah-karnival-kpdn-zon-ti
 mur-tahun-2024/
SUMMARY:Program Jelajah Karnival KPDN Zon Timur Tahun 2024
DESCRIPTION:Klik di sini untuk Pendaftaran / Pengesahan Kehadiran.
ATTACH;FMTTYPE=image/jpeg:https://www.punb.com.my/wp-content/uploads/2024/
 12/program-jelajah-karnival-kpdn-zon-timur-tahun-2024-img.jpg
CATEGORIES:Calendar of Activities
LOCATION:Tapak RTC Tanjung Kota Bharu\, Jalan Pasir Mas\, 15100 Kota Bharu\
 , Kelantan\, Malaysia
X-APPLE-STRUCTURED-LOCATION;VALUE=URI;X-ADDRESS=Jalan Pasir Mas\, 15100 Kot
 a Bharu\, Kelantan\, Malaysia;X-APPLE-RADIUS=100;X-TITLE=Tapak RTC Tanjung
  Kota Bharu:geo:0,0
END:VEVENT
END:VCALENDAR